BEGIN:VCALENDAR
METHOD:PUBLISH
PRODID:-//LogicWorks GmbH//NONSGML Contentory//EN
VERSION:2.0
BEGIN:VEVENT
DTSTAMP:20260422T170830Z
SUMMARY:20th International Sunflower Conference - ISC2020
DESCRIPTION:Since further development of the situation cannot be foreseen\, together w
 ith the ISA Board\, we have decided to postpone the conference for the nex
 t year. The new time for the conference is June 20th to June 23rd\, 2022
 . The conference will be held in the same place\, Master center\, in Novi
  Sad\, Serbia.
LOCATION:Novi Sad\, Serbia
CREATED:20210413T152150
LAST-MODIFIED:20210929T123536
DTSTART;VALUE=DATE:20220620T000100
DTEND;VALUE=DATE:20220623T000100
UID:sn_20th_International_Sunflower_Conference_ISC2020@logic-works.net
END:VEVENT
END:VCALENDAR