BEGIN:VCALENDAR
METHOD:PUBLISH
PRODID:-//LogicWorks GmbH//NONSGML Contentory//EN
VERSION:2.0
BEGIN:VEVENT
DTSTAMP:20260422T104748Z
SUMMARY:7th Edition of the Pathophysiology School
DESCRIPTION:The School\, conducted in English\, will provide doctoral students\, post-
 docs\, and young researchers with the opportunity to experience three days
  of training with prestigious speakers and to build new scientific and per
 sonal relationships in an informal yet highly stimulating environment.\nRe
 gistrations are open until April 10th\, 2024.
LOCATION:Lucca\, IT
CREATED:20240319T110318
LAST-MODIFIED:20240319T110512
DTSTART;VALUE=DATE:20240610T000100
DTEND;VALUE=DATE:20240612T000100
UID:sn_7th_Edition_of_the_Pathophysiology_School@logic-works.net
END:VEVENT
END:VCALENDAR