BEGIN:VCALENDAR
METHOD:PUBLISH
PRODID:-//LogicWorks GmbH//NONSGML Contentory//EN
VERSION:2.0
BEGIN:VEVENT
DTSTAMP:20260422T170726Z
SUMMARY:7th Imaging Work Group Webinar
LOCATION:Online
CREATED:20181114T171506
LAST-MODIFIED:20181210T163026
DTSTART;VALUE=DATE:20181213T160000
DTEND;VALUE=DATE:20181213T160000
UID:sn_7th_Imaging_Work_Group_Webinar@logic-works.net
END:VEVENT
END:VCALENDAR