BEGIN:VCALENDAR
METHOD:PUBLISH
PRODID:-//LogicWorks GmbH//NONSGML Contentory//EN
VERSION:2.0
BEGIN:VEVENT
DTSTAMP:20260420T041512Z
SUMMARY:9th ISHS Strawberry Symposium
LOCATION:virtual
CREATED:20201208T122736
LAST-MODIFIED:20210413T150955
DTSTART;VALUE=DATE:20210501T000100
DTEND;VALUE=DATE:20210505T000100
UID:sn_9th_ISHS_Strawberry_Symposium@logic-works.net
END:VEVENT
END:VCALENDAR