BEGIN:VCALENDAR
METHOD:PUBLISH
PRODID:-//LogicWorks GmbH//NONSGML Contentory//EN
VERSION:2.0
BEGIN:VEVENT
DTSTAMP:20260422T151520Z
SUMMARY:Australasian Agricultural &amp\; Resource Economics Society
LOCATION:Melbourne\, Australia
CREATED:20180921T173730
LAST-MODIFIED:20180921T173730
DTSTART;VALUE=DATE:20190212T000100
DTEND;VALUE=DATE:20190215T000100
UID:sn_Australasian_Agricultural_amp_Resource_Economics_Society@logic-works.ne
 t
END:VEVENT
END:VCALENDAR