BEGIN:VCALENDAR
METHOD:PUBLISH
PRODID:-//LogicWorks GmbH//NONSGML Contentory//EN
VERSION:2.0
BEGIN:VEVENT
DTSTAMP:20260422T132005Z
SUMMARY:Botanikertagung 2017
DESCRIPTION:The Botanikertagung is an International Conference on Plant Sciences that 
 will next be held in Kiel\, Germany\, 2017 from September 17 to 21. The co
 nference comprises four days of exciting presentations\, including keynote
  lectures\, poster sessions and workshops. An evening lecture open to the 
 public will address the suitability of our crop plants for feeding the inc
 reasing world population.\n \nMore information\n 
LOCATION:Kiel\, Germany
CREATED:20170911T123131
LAST-MODIFIED:20170913T163509
DTSTART;VALUE=DATE:20170917T000100
DTEND;VALUE=DATE:20170921T000100
UID:sn_Botanikertagung_2017@logic-works.net
END:VEVENT
END:VCALENDAR