BEGIN:VCALENDAR
METHOD:PUBLISH
PRODID:-//LogicWorks GmbH//NONSGML Contentory//EN
VERSION:2.0
BEGIN:VEVENT
DTSTAMP:20260422T171552Z
SUMMARY:EMBO Workshop: International plant systems biology
LOCATION:Online
CREATED:20210119T145903
LAST-MODIFIED:20210119T145955
DTSTART;VALUE=DATE:20210426T000100
DTEND;VALUE=DATE:20210427T000100
UID:sn_EMBO_Workshop_International_plant_systems_biology@logic-works.net
END:VEVENT
END:VCALENDAR