BEGIN:VCALENDAR
METHOD:PUBLISH
PRODID:-//LogicWorks GmbH//NONSGML Contentory//EN
VERSION:2.0
BEGIN:VEVENT
DTSTAMP:20260420T041408Z
SUMMARY:Food for the Future: Accelerating the Protein Transition
LOCATION:Brussels\, Belgium
CREATED:20191129T110006
LAST-MODIFIED:20191203T133631
DTSTART;VALUE=DATE:20200129T000100
DTEND;VALUE=DATE:20200129T000100
UID:sn_Food_for_the_Future_Accelerating_the_Protein_Transition@logic-works.net
END:VEVENT
END:VCALENDAR