BEGIN:VCALENDAR
METHOD:PUBLISH
PRODID:-//LogicWorks GmbH//NONSGML Contentory//EN
VERSION:2.0
BEGIN:VEVENT
DTSTAMP:20260422T171237Z
SUMMARY:International Symposium: “Frontiers in the development and application o
 f plant phenotyping: What are we seeking in plant phenotyping?”
DESCRIPTION:We are pleased to announce that International Symposium “Frontiers in th
 e development and application of plant phenotyping: What are we seeking in
  plant phenotyping” will be held in a hybrid form on October 12\, 2023.\
 nRegistration &amp\; participation is free of cost!
LOCATION:Ichijo Hall\, Yayoi Auditorium\, The University of Tokyo (JP) &amp\; via Z
 oom
CREATED:20230810T125947
LAST-MODIFIED:20230810T130010
DTSTART;VALUE=DATE:20231012T150000
DTEND;VALUE=DATE:20231012T150000
UID:sn_International_Symposium_ldquo_Frontiers_in_the_development@logic-works.
 net
END:VEVENT
END:VCALENDAR