BEGIN:VCALENDAR
METHOD:PUBLISH
PRODID:-//LogicWorks GmbH//NONSGML Contentory//EN
VERSION:2.0
BEGIN:VEVENT
DTSTAMP:20260422T125720Z
SUMMARY:PhenoHarmonIS
CREATED:20180403T141928
LAST-MODIFIED:20180410T143806
DTSTART;VALUE=DATE:20180513T000100
DTEND;VALUE=DATE:20180518T000100
UID:sn_PhenoHarmonIS@logic-works.net
END:VEVENT
END:VCALENDAR