BEGIN:VCALENDAR
METHOD:PUBLISH
PRODID:-//LogicWorks GmbH//NONSGML Contentory//EN
VERSION:2.0
BEGIN:VEVENT
DTSTAMP:20260422T190311Z
SUMMARY:PhenomicsWebinars Q&amp\;A with Christophe Salon
LOCATION:Virtual
CREATED:20210415T203859
LAST-MODIFIED:20210416T133931
DTSTART;VALUE=DATE:20210506T090000
DTEND;VALUE=DATE:20210506T100000
UID:sn_PhenomicsWebinars@logic-works.net
END:VEVENT
END:VCALENDAR