BEGIN:VCALENDAR
METHOD:PUBLISH
PRODID:-//LogicWorks GmbH//NONSGML Contentory//EN
VERSION:2.0
BEGIN:VEVENT
DTSTAMP:20260422T151311Z
SUMMARY:PhenomicsWebinars Q&amp\;A with Samuel Oswald
LOCATION:virtual
CREATED:20210419T155937
LAST-MODIFIED:20210609T100708
DTSTART;VALUE=DATE:20210617T140000
DTEND;VALUE=DATE:20210617T150000
UID:sn_PhenomicsWebinars_Q_amp_A_with_Samuel_Oswald@logic-works.net
END:VEVENT
END:VCALENDAR