BEGIN:VCALENDAR
METHOD:PUBLISH
PRODID:-//LogicWorks GmbH//NONSGML Contentory//EN
VERSION:2.0
BEGIN:VEVENT
DTSTAMP:20260422T171447Z
SUMMARY:Phenomics Webinar: Prof. Menachem Moshelion
LOCATION:Online
CREATED:20201109T174849
LAST-MODIFIED:20201109T174959
DTSTART;VALUE=DATE:20201113T140000
DTEND;VALUE=DATE:20201113T140000
UID:sn_Phenomics_Webinar_Prof_Menachem_Moshelion@logic-works.net
END:VEVENT
END:VCALENDAR