BEGIN:VCALENDAR
METHOD:PUBLISH
PRODID:-//LogicWorks GmbH//NONSGML Contentory//EN
VERSION:2.0
BEGIN:VEVENT
DTSTAMP:20260422T151101Z
SUMMARY:Plant Phenomics Phridays: Fall 2017 Seminar Series
DESCRIPTION:Runs from 8 September until 27 October.\nmore information
LOCATION:Online and Lincoln\, Nebraska\, USA
CREATED:20171009T103409
LAST-MODIFIED:20171017T145009
DTSTART;VALUE=DATE:20170908T000100
DTEND;VALUE=DATE:20171027T000100
UID:sn_Plant_Phenomics_Phridays_Fall_2017_Seminar_Series@logic-works.net
END:VEVENT
END:VCALENDAR