BEGIN:VCALENDAR
METHOD:PUBLISH
PRODID:-//LogicWorks GmbH//NONSGML Contentory//EN
VERSION:2.0
BEGIN:VEVENT
DTSTAMP:20260424T141912Z
SUMMARY:UK Plant Phenomics Conference
DESCRIPTION:Registration NOW open\, Sign up for Here\nSubmissions of papers (in the f
 orm of extended abstracts) covering\, but not limited to...:• Phenotypin
 g tools\, methods and facilities• Management and analysis of phenotyping
  data• Successful applications of and challenges facing phenotyping tech
 nologies...are welcome via Microsoft CMT (https://cmt3.research.microsoft.
 com/PhenomUK2023/Submission/Index)\nDeadline for abstracts July 28th 2023D
 eadline for Registration 25th August 2023
LOCATION:Warwick\, UK
CREATED:20230727T125201
LAST-MODIFIED:20230727T131142
DTSTART;VALUE=DATE:20230904T000100
DTEND;VALUE=DATE:20230905T000100
UID:sn_UK_Plant_Phenomics_Conference@logic-works.net
END:VEVENT
END:VCALENDAR