BEGIN:VCALENDAR
METHOD:PUBLISH
PRODID:-//LogicWorks GmbH//NONSGML Contentory//EN
VERSION:2.0
BEGIN:VEVENT
DTSTAMP:20260422T151417Z
SUMMARY:XVI Brazilian Congress of Plant Physiology
DESCRIPTION:The congress will feature key note lectures and thematic sessions in which
  students will have the opportunity to stand side by side with well-known 
 plant physiologists\, sharing the same space and enjoying a refreshing and
  inspiring atmosphere of ideas.\nMore information\n 
LOCATION:São Pedro\, SP\, Brazil
CREATED:20170911T124312
LAST-MODIFIED:20170911T214048
DTSTART;VALUE=DATE:20170924T000100
DTEND;VALUE=DATE:20170928T000100
UID:sn_XVI_Brazilian_Congress_of_Plant_Physiology@logic-works.net
END:VEVENT
END:VCALENDAR